BEGIN:VCALENDAR
VERSION:2.0
PRODID:-//ChamberMaster//Event Calendar 2.0//EN
METHOD:PUBLISH
X-PUBLISHED-TTL:P3D
REFRESH-INTERVAL:P3D
CALSCALE:GREGORIAN
BEGIN:VEVENT
DTSTART:20260513T121500Z
DTEND:20260514T014500Z
X-MICROSOFT-CDO-ALLDAYEVENT:FALSE
SUMMARY:Second Wednesday Breakfast
DESCRIPTION:Join the Chamber for Second Wednesday Breakfast sponsored by\n\n\n\nCoffee Sponsored by Available\n\nEntertainment Sponsored by Available\n\n \n\nCome early to start networking at 7:15am and the Breakfast will start at 7:30am sharp! Pay $15 cash or check at the door\, enjoy a delicious breakfast\, network with 200 chamber members\, and learn more from our sponsor!\n\n\n\nMembers and guests are welcome - no need to RSVP!\n\n\n\nDoor prizes are accepted at the Breakfast and are a great way to promote your business!
X-ALT-DESC;FMTTYPE=text/html:Join the Chamber for Second Wednesday Breakfast sponsored by<br />\n<br />\n<a href="https://business.nicevillechamber.com/list/member/carr-riggs-ingram-llc-niceville-4502-highway-20-east-1095"><span style="text-align: center\; color: rgb(51\, 51\, 51)\;">Coffee Sponsored by&nbsp\;</span></a><span style="font-family: &quot\;courier new&quot\;\;">Available</span><br />\nEntertainment Sponsored by <font face="courier new">Available</font><br />\n&nbsp\;<br />\nCome early to start networking at 7:15am and the Breakfast will start at 7:30am sharp! Pay $15 cash or check at the door\, enjoy a delicious breakfast\, network with 200 chamber members\, and learn more from our sponsor!<br />\n<br />\nMembers and guests are welcome - no need to RSVP!<br />\n<br />\nDoor prizes are accepted at the Breakfast and are a great way to promote your business!
LOCATION:Niceville Community Center 204 North Partin Drive Niceville\, FL 32578
UID:e.2165.13953
SEQUENCE:3
DTSTAMP:20260421T113634Z
URL:https://business.nicevillechamber.com/events/details/second-wednesday-05-13-2026-13953
END:VEVENT

END:VCALENDAR
