BEGIN:VCALENDAR
VERSION:2.0
PRODID:-//ChamberMaster//Event Calendar 2.0//EN
METHOD:PUBLISH
X-PUBLISHED-TTL:P3D
REFRESH-INTERVAL:P3D
CALSCALE:GREGORIAN
BEGIN:VEVENT
DTSTART:20241005T230000Z
DTEND:20241006T020000Z
X-MICROSOFT-CDO-ALLDAYEVENT:FALSE
SUMMARY:Jody Lucas at LJ Schooners
DESCRIPTION:Saturday\, October 5\, 2024 - Live Music with Jody Lucas\, 6pm - 9pm.
X-ALT-DESC;FMTTYPE=text/html:Saturday\, October 5\, 2024 - Live Music with Jody Lucas\, 6pm - 9pm.
LOCATION:LJ Schooners Dockside Restaurant & Oyster Bar 290 Yacht Club Drive Niceville\, FL 32578
UID:e.2165.12695
SEQUENCE:3
DTSTAMP:20260420T203025Z
URL:https://business.nicevillechamber.com/events/details/jody-lucas-at-lj-schooners-10-05-2024-12695
END:VEVENT

END:VCALENDAR
