BEGIN:VCALENDAR
VERSION:2.0
PRODID:-//ChamberMaster//Event Calendar 2.0//EN
METHOD:PUBLISH
X-PUBLISHED-TTL:P3D
REFRESH-INTERVAL:P3D
CALSCALE:GREGORIAN
BEGIN:VEVENT
DTSTART:20260516T120000Z
DTEND:20260516T170000Z
X-MICROSOFT-CDO-ALLDAYEVENT:FALSE
SUMMARY:40th Anniversary Gate To Gate Memorial Run/Walk
DESCRIPTION:This Armed Forces Day\, we invite you to be part of a historic moment as the Gate To Gate Memorial Run/Walk celebrates its 40th Anniversary by returning to its roots as a true gate-to-gate race. As a cornerstone of Eglin's 96 FSS tribute to America 250\, this landmark event proudly links four decades of local tradition with 250 years of our nation's enduring spirit of service and sacrifice. More than just a race\, the Gate To Gate is a 4.4-mile journey of remembrance along its classic course. We run and walk to pay solemn tribute to America's heroes the brave men and women from all branches who made the ultimate sacrifice in defense of our freedoms. Join Team Eglin and the entire Northwest Florida community as we come together to show our unwavering support for those who have dedicated their lives to protecting our country.
X-ALT-DESC;FMTTYPE=text/html:<span style="font-size:16px\;"><span style="font-family:tahoma\;">This Armed Forces Day\, we invite you to be part of a historic moment as the Gate To Gate Memorial Run/Walk celebrates its 40th Anniversary by returning to its roots as a true gate-to-gate race. As a cornerstone of Eglin&rsquo\;s 96 FSS tribute to America 250\, this landmark event proudly links four decades of local tradition with 250 years of our nation&rsquo\;s enduring spirit of service and sacrifice. More than just a race\, the Gate To Gate is a 4.4-mile journey of remembrance along its classic course. We run and walk to pay solemn tribute to America&rsquo\;s heroes&mdash\;the brave men and women from all branches who made the ultimate sacrifice in defense of our freedoms. Join Team Eglin and the entire Northwest Florida community as we come together to show our unwavering support for those who have dedicated their lives to protecting our country.</span></span>
LOCATION:Eglin Youth Center
UID:e.2165.14152
SEQUENCE:3
DTSTAMP:20260422T101722Z
URL:https://business.nicevillechamber.com/events/details/40th-anniversary-gate-to-gate-memorial-run-walk-14152
END:VEVENT

END:VCALENDAR
